BEGIN:VCALENDAR
VERSION:2.0
PRODID:-//Aglow Photography - ECPv6.15.11//NONSGML v1.0//EN
CALSCALE:GREGORIAN
METHOD:PUBLISH
X-ORIGINAL-URL:https://www.aglowphotography.ca
X-WR-CALDESC:Events for Aglow Photography
REFRESH-INTERVAL;VALUE=DURATION:PT1H
X-Robots-Tag:noindex
X-PUBLISHED-TTL:PT1H
BEGIN:VTIMEZONE
TZID:America/Toronto
BEGIN:DAYLIGHT
TZOFFSETFROM:-0500
TZOFFSETTO:-0400
TZNAME:EDT
DTSTART:20240310T070000
END:DAYLIGHT
BEGIN:STANDARD
TZOFFSETFROM:-0400
TZOFFSETTO:-0500
TZNAME:EST
DTSTART:20241103T060000
END:STANDARD
BEGIN:DAYLIGHT
TZOFFSETFROM:-0500
TZOFFSETTO:-0400
TZNAME:EDT
DTSTART:20250309T070000
END:DAYLIGHT
BEGIN:STANDARD
TZOFFSETFROM:-0400
TZOFFSETTO:-0500
TZNAME:EST
DTSTART:20251102T060000
END:STANDARD
BEGIN:DAYLIGHT
TZOFFSETFROM:-0500
TZOFFSETTO:-0400
TZNAME:EDT
DTSTART:20260308T070000
END:DAYLIGHT
BEGIN:STANDARD
TZOFFSETFROM:-0400
TZOFFSETTO:-0500
TZNAME:EST
DTSTART:20261101T060000
END:STANDARD
END:VTIMEZONE
BEGIN:VEVENT
DTSTART;TZID=America/Toronto:20250903T080000
DTEND;TZID=America/Toronto:20250903T170000
DTSTAMP:20260421T042137
CREATED:20250903T163641Z
LAST-MODIFIED:20250903T165543Z
UID:4613-1756886400-1756918800@www.aglowphotography.ca
SUMMARY:Holiday Mini Sessions 2025
DESCRIPTION:[vc_row padding_top_multiplier=””][vc_column full_height=”yes”]  [vc_column_text]The most magical time of the year is just around the corner! Aglow Photography’s Holiday Mini Sessions are the perfect way to capture festive portraits in a fun\, joyful setting complete with beautiful holiday props.\nYour session includes: \n\n15 minute session\nOnline Gallery\n5 professionally edited images of your choice\nA custom digital holiday card featuring one of your photos—perfect for sharing with loved ones.\nPrint release of all selected photos\n\nSpots are limited and fill quickly\, so be sure to reserve your preferred time!\nMaximum 6 people per booking.\nA $50 deposit secures your booking\, with the balance due on the day of your session.E-transfers can be sent to studio@aglowphotography.ca. \nSessions will take place at:\n4877 Sherbrooke St.\nWestmount\, Quebec\n[/vc_column_text][/vc_column][/vc_row][vc_row][vc_column width=”1/2″ rc_bg_type=”color” rc_bg_color=”#ffffff” css=”.vc_custom_1756762604126{border-top-width: 2px !important;border-right-width: 2px !important;border-bottom-width: 2px !important;border-left-width: 2px !important;padding-top: 5px !important;padding-right: 5px !important;padding-bottom: 5px !important;padding-left: 5px !important;border-left-color: #000000 !important;border-left-style: solid !important;border-right-color: #000000 !important;border-right-style: solid !important;border-top-color: #000000 !important;border-top-style: solid !important;border-bottom-color: #000000 !important;border-bottom-style: solid !important;}”]\nSunday\,  October 26th\n\n\n  \n\n\n\n9:009:209:4010:0010:2010:4011:0011:2011:4012:401:001:201:402:002:202:403:003:203:404:00\n \n Your name  \n \n Your email  \n \n Telephone  \n \n Who will be joining you for your portraits? (please include ages of children). Do you have any questions or comments?  \n \n\n Δ \n\n\n[/vc_column][vc_column width=”1/2″ rc_bg_type=”color” rc_bg_color=”#ffffff” css=”.vc_custom_1756762611148{border-top-width: 2px !important;border-right-width: 2px !important;border-bottom-width: 2px !important;border-left-width: 2px !important;padding-top: 5px !important;padding-right: 5px !important;padding-bottom: 5px !important;padding-left: 5px !important;border-left-color: #000000 !important;border-left-style: solid !important;border-right-color: #000000 !important;border-right-style: solid !important;border-top-color: #000000 !important;border-top-style: solid !important;border-bottom-color: #000000 !important;border-bottom-style: solid !important;}”]\nSunday\, November 2nd\n\n\n  \n\n\n\n9:009:209:4010:0010:2010:4011:0011:2011:4012:401:001:201:402:002:202:403:003:203:404:00\n \n Your name  \n \n Your email  \n \n Telephone  \n \n Who will be joining you for your portraits? (please include ages of children). Do you have any questions or comments?  \n \n\n Δ \n\n\n[/vc_column][/vc_row]
URL:https://www.aglowphotography.ca/event/holiday-mini-sessions-2025/
END:VEVENT
END:VCALENDAR